BEGIN:VCALENDAR
VERSION:2.0
PRODID:-//FLK - Fédération Luxembourgeoise de Karaté - ECPv6.15.20//NONSGML v1.0//EN
CALSCALE:GREGORIAN
METHOD:PUBLISH
X-WR-CALNAME:FLK - Fédération Luxembourgeoise de Karaté
X-ORIGINAL-URL:https://flk.lu
X-WR-CALDESC:Events for FLK - Fédération Luxembourgeoise de Karaté
REFRESH-INTERVAL;VALUE=DURATION:PT1H
X-Robots-Tag:noindex
X-PUBLISHED-TTL:PT1H
BEGIN:VTIMEZONE
TZID:UTC
BEGIN:STANDARD
TZOFFSETFROM:+0000
TZOFFSETTO:+0000
TZNAME:UTC
DTSTART:20240101T000000
END:STANDARD
END:VTIMEZONE
BEGIN:VEVENT
DTSTART;TZID=UTC:20250707T000000
DTEND;TZID=UTC:20250714T000000
DTSTAMP:20260421T235536
CREATED:20250605T132133Z
LAST-MODIFIED:20250605T133224Z
UID:2114-1751846400-1752451200@flk.lu
SUMMARY:Wibbel an Dribbel
DESCRIPTION:Wibbel an Dribbel – entre le 7 et le 14 juillet sur trois sites différents (nouveauté cette année !)\nUn événement estival et itinérant où petits et grands pourront découvrir le karaté dans une ambiance décontractée et festive.\n\nhttps://sports.public.lu/fr/programs/education-jeunesse/wibbel-an-dribbel.html
URL:https://flk.lu/event/wibbel-an-dribbel/
ATTACH;FMTTYPE=image/png:https://flk.lu/wp-content/uploads/2025/06/wibble-dribble.png
END:VEVENT
END:VCALENDAR