BEGIN:VCALENDAR
VERSION:2.0
PRODID:-//FLK - Fédération Luxembourgeoise de Karaté - ECPv6.15.20//NONSGML v1.0//EN
CALSCALE:GREGORIAN
METHOD:PUBLISH
X-WR-CALNAME:FLK - Fédération Luxembourgeoise de Karaté
X-ORIGINAL-URL:https://flk.lu
X-WR-CALDESC:Events for FLK - Fédération Luxembourgeoise de Karaté
REFRESH-INTERVAL;VALUE=DURATION:PT1H
X-Robots-Tag:noindex
X-PUBLISHED-TTL:PT1H
BEGIN:VTIMEZONE
TZID:UTC
BEGIN:STANDARD
TZOFFSETFROM:+0000
TZOFFSETTO:+0000
TZNAME:UTC
DTSTART:20240101T000000
END:STANDARD
END:VTIMEZONE
BEGIN:VEVENT
DTSTART;VALUE=DATE:20250830
DTEND;VALUE=DATE:20250831
DTSTAMP:20260421T223549
CREATED:20250605T133918Z
LAST-MODIFIED:20250605T133918Z
UID:2122-1756512000-1756598399@flk.lu
SUMMARY:15. International Basel Open Masters 2025
DESCRIPTION:For years\, the Basel Open Masters has stood for attractive competitions with international top athletes. This year\, too\, not only trophies and titles await the winners\, but also prize money in the decisive Kumite Masters category. \nThe 15th edition of the Basel Open Masters 2025 will be held on\nSaturday\, August 30\, 2025:\nArena of St. Jakobshalle\, Basel \nPrize money in the Kata and Kumite Master categories:\n1. Place              CHF 500\n2. Place              CHF 250\n3. Place              CHF 100\n3. Place              CHF 100
URL:https://flk.lu/event/15-international-basel-open-masters-2025/
LOCATION:St. Jakobshalle\, Brüglingerstrasse\, St. Alban\, Basel\, Basel-City\, 4052\, Switzerland\, St. Jakobshalle\, Brüglingerstrasse\, St. Alban\, Basel\, 4052\, Switzerland
ATTACH;FMTTYPE=image/png:https://flk.lu/wp-content/uploads/2025/06/Karate-30.August-576x1024.jpg.png
END:VEVENT
END:VCALENDAR