BEGIN:VCALENDAR
VERSION:2.0
PRODID:-//FLK - Fédération Luxembourgeoise de Karaté - ECPv6.15.20//NONSGML v1.0//EN
CALSCALE:GREGORIAN
METHOD:PUBLISH
X-ORIGINAL-URL:https://flk.lu
X-WR-CALDESC:Events for FLK - Fédération Luxembourgeoise de Karaté
REFRESH-INTERVAL;VALUE=DURATION:PT1H
X-Robots-Tag:noindex
X-PUBLISHED-TTL:PT1H
BEGIN:VTIMEZONE
TZID:UTC
BEGIN:STANDARD
TZOFFSETFROM:+0000
TZOFFSETTO:+0000
TZNAME:UTC
DTSTART:20240101T000000
END:STANDARD
END:VTIMEZONE
BEGIN:VEVENT
DTSTART;VALUE=DATE:20250830
DTEND;VALUE=DATE:20250831
DTSTAMP:20260422T010858
CREATED:20250605T133918Z
LAST-MODIFIED:20250605T133918Z
UID:2122-1756512000-1756598399@flk.lu
SUMMARY:15. International Basel Open Masters 2025
DESCRIPTION:For years\, the Basel Open Masters has stood for attractive competitions with international top athletes. This year\, too\, not only trophies and titles await the winners\, but also prize money in the decisive Kumite Masters category. \nThe 15th edition of the Basel Open Masters 2025 will be held on\nSaturday\, August 30\, 2025:\nArena of St. Jakobshalle\, Basel \nPrize money in the Kata and Kumite Master categories:\n1. Place              CHF 500\n2. Place              CHF 250\n3. Place              CHF 100\n3. Place              CHF 100
URL:https://flk.lu/event/15-international-basel-open-masters-2025/
LOCATION:St. Jakobshalle\, Brüglingerstrasse\, St. Alban\, Basel\, Basel-City\, 4052\, Switzerland\, St. Jakobshalle\, Brüglingerstrasse\, St. Alban\, Basel\, 4052\, Switzerland
ATTACH;FMTTYPE=image/png:https://flk.lu/wp-content/uploads/2025/06/Karate-30.August-576x1024.jpg.png
END:VEVENT
BEGIN:VEVENT
DTSTART;VALUE=DATE:20251108
DTEND;VALUE=DATE:20251110
DTSTAMP:20260422T010858
CREATED:20251107T152053Z
LAST-MODIFIED:20251107T152120Z
UID:2183-1762560000-1762732799@flk.lu
SUMMARY:Okami Cup Luxembourg
DESCRIPTION:Date : 08 – 09 novembre 2025\nLieu : Festsall a Mouschelt\nLintgen\, 250\, rte de Fischbach\nOrganisateur : KC Lintgen
URL:https://flk.lu/event/okami-cup-luxembourg/
LOCATION:250\, rue de fischbach 7447 Lintgen\, 250 rue de Fischbach\, Lintgen\, 7447\, Luxembourg
ATTACH;FMTTYPE=image/webp:https://flk.lu/wp-content/uploads/2025/11/OKAMI-cup-2025.webp
END:VEVENT
BEGIN:VEVENT
DTSTART;TZID=UTC:20251121T183000
DTEND;TZID=UTC:20251121T200000
DTSTAMP:20260422T010858
CREATED:20251107T152851Z
LAST-MODIFIED:20251107T152851Z
UID:2188-1763749800-1763755200@flk.lu
SUMMARY:Karate Seminar - KSD
DESCRIPTION:STAGE EXCEPTIONNEL DE KARATÉ À DUDELANGE \n\n\nNe manquez pas l’opportunité de vous entraîner avec l’un des grands maîtres du karaté :\n\n\n Sensei Alfredo Russo\n\n\n 8e Dan Shotokan (WKF & Japon)\n\n\n Ancien Entraîneur National WKF\n(Belgique & Maroc)\n\n\n Chief Instructor Group Furuhata Europe\n\n\n Vendredi 21 novembre 2025\n 18h30 – 20h00\n Dudelange – Luxembourg\n\n\n Un stage ouvert à tous les passionnés\, confirmés.\n Venez améliorer votre technique\, et votre esprit martial aux côtés d’un expert international.\n\n\n Les places sont limitées
URL:https://flk.lu/event/karate-seminar-ksd/
LOCATION:Centre Sportif 2 rue René Hartmann\, 3425 Dudelange\, Centre Sportif 2 rue René Hartmann\,\, Dudelange\, 3425\, Luxembourg
ATTACH;FMTTYPE=image/png:https://flk.lu/wp-content/uploads/2025/11/unnamed-7-1.png
END:VEVENT
BEGIN:VEVENT
DTSTART;VALUE=DATE:20251127
DTEND;VALUE=DATE:20251201
DTSTAMP:20260422T010858
CREATED:20251107T153805Z
LAST-MODIFIED:20251107T153805Z
UID:2194-1764201600-1764547199@flk.lu
SUMMARY:Championnat du monde Senior Cairo (Egypte)
DESCRIPTION:
URL:https://flk.lu/event/championnat-du-monde-senior-cairo-egypte/
LOCATION:CAIRO INTERNATIONAL STADIUM\, CAIRO INTERNATIONAL STADIUM Mamdouh Salem ، Street ،Al Estad\, Nasr City\, Cairo Governorate\, Egypt
ATTACH;FMTTYPE=image/jpeg:https://flk.lu/wp-content/uploads/2025/11/WKF-Cairo-nov-2025.jpg
END:VEVENT
BEGIN:VEVENT
DTSTART;VALUE=DATE:20251204
DTEND;VALUE=DATE:20251207
DTSTAMP:20260422T010859
CREATED:20251107T154416Z
LAST-MODIFIED:20251107T154416Z
UID:2197-1764806400-1765065599@flk.lu
SUMMARY:Youth League de Venise (Italie)
DESCRIPTION:
URL:https://flk.lu/event/youth-league-de-venise-italie/
LOCATION:Venice – Lido di Jesolo\, PALAZZO DEL TURISMO\, Piazza Brescia 11\, Lido di Jesolo\, 30016\, Italy
ATTACH;FMTTYPE=image/png:https://flk.lu/wp-content/uploads/2025/11/unnamed-8.png
END:VEVENT
BEGIN:VEVENT
DTSTART;VALUE=DATE:20260206
DTEND;VALUE=DATE:20260209
DTSTAMP:20260422T010859
CREATED:20260304T122452Z
LAST-MODIFIED:20260304T122452Z
UID:2262-1770336000-1770595199@flk.lu
SUMMARY:Junior & U21 Championships LIMASSOL
DESCRIPTION:Alexander DAVIES remporte la médaille d’or et devient champion d’Europe dans la catégorie U21 +84kg.
URL:https://flk.lu/event/junior-u21-championships-limassol/
ATTACH;FMTTYPE=image/png:https://flk.lu/wp-content/uploads/2026/03/Champ-europe-cadets-juniors-U21-Limassol.png
END:VEVENT
BEGIN:VEVENT
DTSTART;VALUE=DATE:20260313
DTEND;VALUE=DATE:20260316
DTSTAMP:20260422T010859
CREATED:20260304T121800Z
LAST-MODIFIED:20260304T121823Z
UID:2256-1773360000-1773619199@flk.lu
SUMMARY:K1 Series A ROMA
DESCRIPTION:Athlète : Jennifer Warling
URL:https://flk.lu/event/k1-series-a-roma/
ATTACH;FMTTYPE=image/png:https://flk.lu/wp-content/uploads/2026/03/Rome.png
END:VEVENT
BEGIN:VEVENT
DTSTART;VALUE=DATE:20260320
DTEND;VALUE=DATE:20260327
DTSTAMP:20260422T010859
CREATED:20260304T122301Z
LAST-MODIFIED:20260304T122301Z
UID:2259-1773964800-1774569599@flk.lu
SUMMARY:Grand Prix Slovakia BRATISLAVA
DESCRIPTION:Equipe nationale kumite
URL:https://flk.lu/event/grand-prix-slovakia-bratislava/
ATTACH;FMTTYPE=image/png:https://flk.lu/wp-content/uploads/2026/03/Grand-Prix-Slovakia.png
END:VEVENT
BEGIN:VEVENT
DTSTART;VALUE=DATE:20260410
DTEND;VALUE=DATE:20260413
DTSTAMP:20260422T010859
CREATED:20260304T121607Z
LAST-MODIFIED:20260304T121648Z
UID:2252-1775779200-1776038399@flk.lu
SUMMARY:K1 Series A LESHAN
DESCRIPTION:Athlète : Jennifer Warling
URL:https://flk.lu/event/k1-series-a-leshan/
ATTACH;FMTTYPE=image/png:https://flk.lu/wp-content/uploads/2026/03/Leshan.png
END:VEVENT
BEGIN:VEVENT
DTSTART;VALUE=DATE:20260418
DTEND;VALUE=DATE:20260419
DTSTAMP:20260422T010859
CREATED:20260304T121353Z
LAST-MODIFIED:20260304T121353Z
UID:2248-1776470400-1776556799@flk.lu
SUMMARY:Süd Games ULM
DESCRIPTION:Équipe nationale kata et kumite
URL:https://flk.lu/event/sud-games-ulm/
ATTACH;FMTTYPE=image/png:https://flk.lu/wp-content/uploads/2026/03/Sud-Games.png
END:VEVENT
BEGIN:VEVENT
DTSTART;VALUE=DATE:20260419
DTEND;VALUE=DATE:20260420
DTSTAMP:20260422T010859
CREATED:20260320T085909Z
LAST-MODIFIED:20260320T085946Z
UID:2292-1776556800-1776643199@flk.lu
SUMMARY:Stage de karaté Hosingen
DESCRIPTION:Contact\n\nKarate Club Tanuki Hosingen📧 kctanukihosingen@outlook.com📞 +352 691 735 240 (secrétariat KCT) \n\nExamen\nLes participantes et participants titulaires d’une licence FLK valide ont la possibilité de passer un examen jusqu’au 1er Kyu (style Shotokan). \n👉 Inscription obligatoire à l’avance via les coordonnées de contact📅 Date limite : 22 mars 2026
URL:https://flk.lu/event/stage-de-karate-hosingen/
LOCATION:Karaté Club Tanuki Hosingen\, Centre scolaire et sportif - 4b\, Parc\, Hosingen\, 9836\, Luxembourg
ATTACH;FMTTYPE=image/jpeg:https://flk.lu/wp-content/uploads/2026/03/image0.jpeg
END:VEVENT
BEGIN:VEVENT
DTSTART;VALUE=DATE:20260424
DTEND;VALUE=DATE:20260427
DTSTAMP:20260422T010859
CREATED:20260304T121002Z
LAST-MODIFIED:20260304T121144Z
UID:2243-1776988800-1777247999@flk.lu
SUMMARY:K1 - Series A A CORUNA
DESCRIPTION:Athlètes de l’équipe nationale
URL:https://flk.lu/event/k1-series-a-a-coruna/
ATTACH;FMTTYPE=image/png:https://flk.lu/wp-content/uploads/2026/03/Coruna.png
END:VEVENT
BEGIN:VEVENT
DTSTART;VALUE=DATE:20260514
DTEND;VALUE=DATE:20260515
DTSTAMP:20260422T010859
CREATED:20260320T085220Z
LAST-MODIFIED:20260320T085220Z
UID:2289-1778716800-1778803199@flk.lu
SUMMARY:Spillfest
DESCRIPTION:
URL:https://flk.lu/event/spillfest/
LOCATION:Centre National Sportif et Culturel Coque\, 2 rue Léon Hengen\, Kirchberg\, 1745\, Luxembourg
ATTACH;FMTTYPE=image/png:https://flk.lu/wp-content/uploads/2026/03/AFFICHE_A2_DRAFT_V6-_VISTAPRINT.png
END:VEVENT
BEGIN:VEVENT
DTSTART;VALUE=DATE:20260514
DTEND;VALUE=DATE:20260518
DTSTAMP:20260422T010859
CREATED:20260304T120801Z
LAST-MODIFIED:20260304T121157Z
UID:2240-1778716800-1779062399@flk.lu
SUMMARY:K1 - Youth League Manila
DESCRIPTION:Athlètes de l’équipe nationale
URL:https://flk.lu/event/k1-youth-league-manila/
ATTACH;FMTTYPE=image/png:https://flk.lu/wp-content/uploads/2026/03/Manille.png
END:VEVENT
BEGIN:VEVENT
DTSTART;VALUE=DATE:20260520
DTEND;VALUE=DATE:20260525
DTSTAMP:20260422T010859
CREATED:20260304T120606Z
LAST-MODIFIED:20260304T120606Z
UID:2237-1779235200-1779667199@flk.lu
SUMMARY:61ème édition du Championnat d'Europe Seniors FRANKFURT
DESCRIPTION:
URL:https://flk.lu/event/61eme-edition-du-championnat-deurope-seniors-frankfurt/
ATTACH;FMTTYPE=image/png:https://flk.lu/wp-content/uploads/2026/03/Champ-eur-senior-Francfort.png
END:VEVENT
BEGIN:VEVENT
DTSTART;VALUE=DATE:20260621
DTEND;VALUE=DATE:20260622
DTSTAMP:20260422T010859
CREATED:20260320T084521Z
LAST-MODIFIED:20260320T084521Z
UID:2282-1782000000-1782086399@flk.lu
SUMMARY:Coupe Prince Louis
DESCRIPTION:
URL:https://flk.lu/event/coupe-prince-louis/
ATTACH;FMTTYPE=image/jpeg:https://flk.lu/wp-content/uploads/2026/03/Coupe-Prince-Louis-21.06.26.jpeg
END:VEVENT
BEGIN:VEVENT
DTSTART;VALUE=DATE:20260824
DTEND;VALUE=DATE:20260828
DTSTAMP:20260422T010859
CREATED:20260320T090458Z
LAST-MODIFIED:20260320T090523Z
UID:2297-1787529600-1787875199@flk.lu
SUMMARY:Stage Da Costa - Summer Camp
DESCRIPTION:Stage S.Da Costa_Bulletin d’Informartions FR \nStage S.Da Costa_Programme FR \nE‐mail de contact : summercampdacosta@gmail.com
URL:https://flk.lu/event/stage-da-costa-summer-camp/
LOCATION:Hall National Des Arts MArtiaux\, 297\, Rue du Reckenthal\, Strassen\, 2410\, Luxembourg
ATTACH;FMTTYPE=image/jpeg:https://flk.lu/wp-content/uploads/2026/03/Flyer-Stage-S.Da-Costa.jpg
END:VEVENT
BEGIN:VEVENT
DTSTART;VALUE=DATE:20261014
DTEND;VALUE=DATE:20261019
DTSTAMP:20260422T010859
CREATED:20260320T084950Z
LAST-MODIFIED:20260320T084950Z
UID:2287-1791936000-1792367999@flk.lu
SUMMARY:World Cadet\, Junior & U21 Championships Bielsko-Biala
DESCRIPTION:
URL:https://flk.lu/event/world-cadet-junior-u21-championships-bielsko-biala/
ATTACH;FMTTYPE=image/png:https://flk.lu/wp-content/uploads/2026/03/Champ-Monde-Bielsko-Biala-14-18.10.26.png
END:VEVENT
END:VCALENDAR