BEGIN:VCALENDAR
VERSION:2.0
PRODID:-//FLK - Fédération Luxembourgeoise de Karaté - ECPv6.15.20//NONSGML v1.0//EN
CALSCALE:GREGORIAN
METHOD:PUBLISH
X-WR-CALNAME:FLK - Fédération Luxembourgeoise de Karaté
X-ORIGINAL-URL:https://flk.lu
X-WR-CALDESC:Events for FLK - Fédération Luxembourgeoise de Karaté
REFRESH-INTERVAL;VALUE=DURATION:PT1H
X-Robots-Tag:noindex
X-PUBLISHED-TTL:PT1H
BEGIN:VTIMEZONE
TZID:UTC
BEGIN:STANDARD
TZOFFSETFROM:+0000
TZOFFSETTO:+0000
TZNAME:UTC
DTSTART:20230101T000000
END:STANDARD
END:VTIMEZONE
BEGIN:VEVENT
DTSTART;VALUE=DATE:20241205
DTEND;VALUE=DATE:20241209
DTSTAMP:20260422T015016
CREATED:20241112T083913Z
LAST-MODIFIED:20241120T164711Z
UID:1496-1733356800-1733702399@flk.lu
SUMMARY:2024 KARATE 1-YOUTH LEAGUE VENICE
DESCRIPTION:Du 5 au 8 décembre 2024\nINSCRIPTION \n\nL’inscription des compétiteurs et des entraîneurs ne sera acceptée que si elle est effectuée par l’intermédiaire de : \nSportdata \nLa date limite d’inscription est fixée au 19 novembre 2024.
URL:https://flk.lu/event/2024-karate-1-youth-league-venice/
LOCATION:Palazzo Del Turismo\, PIAZZA BRESCIA 11\, LIDO DI JESOLO\, 30016\, Italy
ATTACH;FMTTYPE=image/jpeg:https://flk.lu/wp-content/uploads/2024/11/FLK-venice-flyer.jpg
END:VEVENT
BEGIN:VEVENT
DTSTART;TZID=UTC:20241201T080000
DTEND;TZID=UTC:20241201T170000
DTSTAMP:20260422T015016
CREATED:20241105T135704Z
LAST-MODIFIED:20241129T131233Z
UID:1432-1733040000-1733072400@flk.lu
SUMMARY:Championnat National Kumite 2024
DESCRIPTION:Dimanche 1er Décembre 2024\nINSCRIPTION \n\nL’inscription des compétiteurs et des entraîneurs ne sera acceptée que si elle est effectuée par l’intermédiaire de : \nSportdata \nLa date limite d’inscription est fixée au 12 novembre 2024.
URL:https://flk.lu/event/championnat-national-kumite-2024/
LOCATION:Centre National Sportif et Culturel Coque\, 2 rue Léon Hengen\, Kirchberg\, 1745\, Luxembourg
ATTACH;FMTTYPE=image/jpeg:https://flk.lu/wp-content/uploads/2024/11/Flyer-CN-Kumite-degrade-bleu-fille.jpeg
END:VEVENT
BEGIN:VEVENT
DTSTART;TZID=UTC:20241019T090000
DTEND;TZID=UTC:20241020T170000
DTSTAMP:20260422T015016
CREATED:20240916T133301Z
LAST-MODIFIED:20240916T133301Z
UID:1355-1729328400-1729443600@flk.lu
SUMMARY:COUPE INTERNATIONALE DE KAYL 2024
DESCRIPTION:Saturday 19th October 2024\nKATA :U9 + U10 + U11 + U12 + U13 + U14\nKUMITE : U10 + U12 + U14 \nSunday 19th October 2024\nU16 + U18 + U21 +35 years + SENIOR + SENIOR OPEN \nSPECIAL CASH AWARDS – « KUMITE SENIOR OPEN » & « KATA SENIOR » \nIn the “Kumite Senior Open” & “Kata Senior” categories\, a competitor placed in the top 3 in his/her discipline will be rewarded as following :\n1. placed : 500€\n2. placed : 300€\n3. placed : 100€ \n\nREGISTRATION\nRegistration for competitors and coaches will only be accepted if done trough : \nSportdata \nRegistration deadline is on October 11th\, 2024\nCheck-in on competition day is from 8h00 to 13h00 at the sport hall.
URL:https://flk.lu/event/coupe-internationale-de-kayl-2024/
LOCATION:hall sportif KayL (Lux)\, 96 RUE DU FAUBOURG\, KAYL\, 3640\, Luxembourg
ATTACH;FMTTYPE=image/png:https://flk.lu/wp-content/uploads/2024/09/CoupeDeKayl2024-flk.png
END:VEVENT
BEGIN:VEVENT
DTSTART;VALUE=DATE:20241009
DTEND;VALUE=DATE:20241014
DTSTAMP:20260422T015016
CREATED:20240918T125549Z
LAST-MODIFIED:20240918T125549Z
UID:1425-1728432000-1728863999@flk.lu
SUMMARY:Championnat du monde Cadet\, Junior et U21 à Venise (Italie)
DESCRIPTION:Championnat du monde Cadet\, Junior et U21 à Venise (Italie)\, \n 
URL:https://flk.lu/event/championnat-du-monde-cadet-junior-et-u21-a-venise-italie/
LOCATION:Venise – Italie\, Venice\, Italy
ATTACH;FMTTYPE=image/png:https://flk.lu/wp-content/uploads/2024/09/FLK-championnat-monde-venise.png
END:VEVENT
END:VCALENDAR