BEGIN:VCALENDAR
VERSION:2.0
PRODID:-//FLK - Fédération Luxembourgeoise de Karaté - ECPv6.15.20//NONSGML v1.0//EN
CALSCALE:GREGORIAN
METHOD:PUBLISH
X-WR-CALNAME:FLK - Fédération Luxembourgeoise de Karaté
X-ORIGINAL-URL:https://flk.lu
X-WR-CALDESC:Events for FLK - Fédération Luxembourgeoise de Karaté
REFRESH-INTERVAL;VALUE=DURATION:PT1H
X-Robots-Tag:noindex
X-PUBLISHED-TTL:PT1H
BEGIN:VTIMEZONE
TZID:UTC
BEGIN:STANDARD
TZOFFSETFROM:+0000
TZOFFSETTO:+0000
TZNAME:UTC
DTSTART:20230101T000000
END:STANDARD
END:VTIMEZONE
BEGIN:VEVENT
DTSTART;VALUE=DATE:20241009
DTEND;VALUE=DATE:20241014
DTSTAMP:20260421T175732
CREATED:20240918T125549Z
LAST-MODIFIED:20240918T125549Z
UID:1425-1728432000-1728863999@flk.lu
SUMMARY:Championnat du monde Cadet\, Junior et U21 à Venise (Italie)
DESCRIPTION:Championnat du monde Cadet\, Junior et U21 à Venise (Italie)\, \n 
URL:https://flk.lu/event/championnat-du-monde-cadet-junior-et-u21-a-venise-italie/
LOCATION:Venise – Italie\, Venice\, Italy
ATTACH;FMTTYPE=image/png:https://flk.lu/wp-content/uploads/2024/09/FLK-championnat-monde-venise.png
END:VEVENT
END:VCALENDAR