BEGIN:VCALENDAR
VERSION:2.0
PRODID:-//FLK - Fédération Luxembourgeoise de Karaté - ECPv6.15.20//NONSGML v1.0//EN
CALSCALE:GREGORIAN
METHOD:PUBLISH
X-WR-CALNAME:FLK - Fédération Luxembourgeoise de Karaté
X-ORIGINAL-URL:https://flk.lu
X-WR-CALDESC:Events for FLK - Fédération Luxembourgeoise de Karaté
REFRESH-INTERVAL;VALUE=DURATION:PT1H
X-Robots-Tag:noindex
X-PUBLISHED-TTL:PT1H
BEGIN:VTIMEZONE
TZID:UTC
BEGIN:STANDARD
TZOFFSETFROM:+0000
TZOFFSETTO:+0000
TZNAME:UTC
DTSTART:20240101T000000
END:STANDARD
END:VTIMEZONE
BEGIN:VEVENT
DTSTART;TZID=UTC:20250207T080000
DTEND;TZID=UTC:20250209T170000
DTSTAMP:20260422T045303
CREATED:20241111T102013Z
LAST-MODIFIED:20241121T073514Z
UID:1490-1738915200-1739120400@flk.lu
SUMMARY:Championnats Européens Cadet\, Junior & U21 2025
DESCRIPTION:Du Vendredi 07 au Dimanche 09 Février 2025\nINSCRIPTION \n\nL’inscription des compétiteurs et des entraîneurs ne sera acceptée que si elle est effectuée par l’intermédiaire de : \nSportdata \nLa date limite d’inscription est fixée au 13 janvier 2025.
URL:https://flk.lu/event/championnats-europeens-cadet-junior-u21-2025/
LOCATION:Hala Widowiskowa BBOSiR\, POLAND\, Karbowa 26\,\, Bielsko-Biała\, 43-300\, Poland
ATTACH;FMTTYPE=image/jpeg:https://flk.lu/wp-content/uploads/2024/11/continental-championships-flyer.jpg
END:VEVENT
END:VCALENDAR