BEGIN:VCALENDAR
VERSION:2.0
PRODID:-//FLK - Fédération Luxembourgeoise de Karaté - ECPv6.15.20//NONSGML v1.0//EN
CALSCALE:GREGORIAN
METHOD:PUBLISH
X-WR-CALNAME:FLK - Fédération Luxembourgeoise de Karaté
X-ORIGINAL-URL:https://flk.lu
X-WR-CALDESC:Events for FLK - Fédération Luxembourgeoise de Karaté
REFRESH-INTERVAL;VALUE=DURATION:PT1H
X-Robots-Tag:noindex
X-PUBLISHED-TTL:PT1H
BEGIN:VTIMEZONE
TZID:UTC
BEGIN:STANDARD
TZOFFSETFROM:+0000
TZOFFSETTO:+0000
TZNAME:UTC
DTSTART:20240101T000000
END:STANDARD
END:VTIMEZONE
BEGIN:VEVENT
DTSTART;VALUE=DATE:20250309
DTEND;VALUE=DATE:20250310
DTSTAMP:20260422T033136
CREATED:20250304T141819Z
LAST-MODIFIED:20250304T141819Z
UID:2003-1741478400-1741564799@flk.lu
SUMMARY:CHAMPIONNAT NATIONAL KATA
DESCRIPTION:Dimanche 09 mars 2025
URL:https://flk.lu/event/championnat-national-kata/
LOCATION:Hall National Des Arts MArtiaux\, 297\, Rue du Reckenthal\, Strassen\, 2410\, Luxembourg
ATTACH;FMTTYPE=image/jpeg:https://flk.lu/wp-content/uploads/2025/03/Championnat-national-Kata-2025-FLK.jpg
END:VEVENT
BEGIN:VEVENT
DTSTART;VALUE=DATE:20250314
DTEND;VALUE=DATE:20250317
DTSTAMP:20260422T033136
CREATED:20250429T153338Z
LAST-MODIFIED:20250429T153338Z
UID:2059-1741910400-1742169599@flk.lu
SUMMARY:Karate1 Premier League - Hangzhou 2025
DESCRIPTION:
URL:https://flk.lu/event/karate1-premier-league-hangzhou-2025/
LOCATION:Hangzhou\, Hangzhou\, China
ATTACH;FMTTYPE=image/jpeg:https://flk.lu/wp-content/uploads/2025/04/Hangzhou-2025.jpg
END:VEVENT
BEGIN:VEVENT
DTSTART;VALUE=DATE:20250324
DTEND;VALUE=DATE:20250325
DTSTAMP:20260422T033136
CREATED:20250429T153420Z
LAST-MODIFIED:20250429T153420Z
UID:2063-1742774400-1742860799@flk.lu
SUMMARY:Journée portes ouvertes Sportlycée
DESCRIPTION:
URL:https://flk.lu/event/journee-portes-ouvertes-sportlycee/
END:VEVENT
END:VCALENDAR