BEGIN:VCALENDAR
VERSION:2.0
PRODID:-//FLK - Fédération Luxembourgeoise de Karaté - ECPv6.15.20//NONSGML v1.0//EN
CALSCALE:GREGORIAN
METHOD:PUBLISH
X-ORIGINAL-URL:https://flk.lu
X-WR-CALDESC:Events for FLK - Fédération Luxembourgeoise de Karaté
REFRESH-INTERVAL;VALUE=DURATION:PT1H
X-Robots-Tag:noindex
X-PUBLISHED-TTL:PT1H
BEGIN:VTIMEZONE
TZID:UTC
BEGIN:STANDARD
TZOFFSETFROM:+0000
TZOFFSETTO:+0000
TZNAME:UTC
DTSTART:20240101T000000
END:STANDARD
END:VTIMEZONE
BEGIN:VEVENT
DTSTART;VALUE=DATE:20250403
DTEND;VALUE=DATE:20250407
DTSTAMP:20260422T021628
CREATED:20250429T153119Z
LAST-MODIFIED:20250429T153119Z
UID:2055-1743638400-1743983999@flk.lu
SUMMARY:Karate1 Youth League - Guadalajara 2025
DESCRIPTION:
URL:https://flk.lu/event/karate1-youth-league-guadalajara-2025/
LOCATION:Palacio Multiusos de Guadalajara\, Av. de El Vado\, 13\, 19005 Guadalajara\, Guadalajara\, Spain
ATTACH;FMTTYPE=image/jpeg:https://flk.lu/wp-content/uploads/2025/04/flk-guadelajara-2025.jpg
END:VEVENT
BEGIN:VEVENT
DTSTART;VALUE=DATE:20250412
DTEND;VALUE=DATE:20250413
DTSTAMP:20260422T021628
CREATED:20250429T152754Z
LAST-MODIFIED:20250429T152754Z
UID:2052-1744416000-1744502399@flk.lu
SUMMARY:SÜD GAMES 2025 powered by Adidas
DESCRIPTION:
URL:https://flk.lu/event/sud-games-2025-powered-by-adidas/
ATTACH;FMTTYPE=image/jpeg:https://flk.lu/wp-content/uploads/2025/04/sud-games-2025-flk.jpg
END:VEVENT
BEGIN:VEVENT
DTSTART;VALUE=DATE:20250418
DTEND;VALUE=DATE:20250421
DTSTAMP:20260422T021628
CREATED:20250429T152445Z
LAST-MODIFIED:20250429T152445Z
UID:2048-1744934400-1745193599@flk.lu
SUMMARY:Karate1 Premier League - Cairo 2025
DESCRIPTION:
URL:https://flk.lu/event/karate1-premier-league-cairo-2025/
LOCATION:CAIRO INTERNATIONAL STADIUM\, CAIRO INTERNATIONAL STADIUM Mamdouh Salem ، Street ،Al Estad\, Nasr City\, Cairo Governorate\, Egypt
ATTACH;FMTTYPE=image/jpeg:https://flk.lu/wp-content/uploads/2025/04/cairo-2025-FLK.jpg
END:VEVENT
END:VCALENDAR