BEGIN:VCALENDAR
VERSION:2.0
PRODID:-//FLK - Fédération Luxembourgeoise de Karaté - ECPv6.15.20//NONSGML v1.0//EN
CALSCALE:GREGORIAN
METHOD:PUBLISH
X-ORIGINAL-URL:https://flk.lu
X-WR-CALDESC:Events for FLK - Fédération Luxembourgeoise de Karaté
REFRESH-INTERVAL;VALUE=DURATION:PT1H
X-Robots-Tag:noindex
X-PUBLISHED-TTL:PT1H
BEGIN:VTIMEZONE
TZID:UTC
BEGIN:STANDARD
TZOFFSETFROM:+0000
TZOFFSETTO:+0000
TZNAME:UTC
DTSTART:20240101T000000
END:STANDARD
END:VTIMEZONE
BEGIN:VEVENT
DTSTART;VALUE=DATE:20250530
DTEND;VALUE=DATE:20250602
DTSTAMP:20260421T235623
CREATED:20250429T145017Z
LAST-MODIFIED:20250429T145017Z
UID:2033-1748563200-1748822399@flk.lu
SUMMARY:Karate1 Premier League - Rabat 2025
DESCRIPTION:
URL:https://flk.lu/event/karate1-premier-league-rabat-2025/
LOCATION:MULTI-PURPOSE STADIUMS PRINCE MOULAY ABDELLAH\, El Massira C.Y.M. Rabat 10000\, Rabat\, Morocco
ATTACH;FMTTYPE=image/jpeg:https://flk.lu/wp-content/uploads/2025/04/FLK-rabat-2025.jpg
END:VEVENT
BEGIN:VEVENT
DTSTART;TZID=UTC:20250619T140000
DTEND;TZID=UTC:20250619T170000
DTSTAMP:20260421T235623
CREATED:20250429T150130Z
LAST-MODIFIED:20250429T150143Z
UID:2037-1750341600-1750352400@flk.lu
SUMMARY:LASEP - Olympiad mam Sporty (C1-C4)
DESCRIPTION:Déroulement : \n→ Accueil à 13h30 \n→ Gradins (vestiaires) de l’Arène -> Les enfants devront se présenter dès leur arrivée en tenue sportive et chaussures de sport propres! \n→ Cérémonie d’ouverture à 14h15 \n→ Ateliers multisports \n→ Cérémonie de clôture à 16h30
URL:https://flk.lu/event/lasep-olympiad-mam-sporty-c1-c4/
LOCATION:Centre National Sportif et Culturel Coque\, 2 rue Léon Hengen\, Kirchberg\, 1745\, Luxembourg
ATTACH;FMTTYPE=image/jpeg:https://flk.lu/wp-content/uploads/2025/04/FLK-events-affiches-2025.jpg
END:VEVENT
BEGIN:VEVENT
DTSTART;VALUE=DATE:20250626
DTEND;VALUE=DATE:20250630
DTSTAMP:20260421T235623
CREATED:20250429T150451Z
LAST-MODIFIED:20250429T150451Z
UID:2040-1750896000-1751241599@flk.lu
SUMMARY:Karate1 Youth League - Poreč 2025
DESCRIPTION:
URL:https://flk.lu/event/karate1-youth-league-porec-2025/
LOCATION:ŽATIKA SPORTS HALL\, Vukovarska ul. 3\, 52440\, Poreč\, Poreč\, Croatia (Local Name: Hrvatska)
ATTACH;FMTTYPE=image/jpeg:https://flk.lu/wp-content/uploads/2025/04/FLK-Youth-LEague-Croatia-2025.jpg
END:VEVENT
BEGIN:VEVENT
DTSTART;VALUE=DATE:20250628
DTEND;VALUE=DATE:20250629
DTSTAMP:20260421T235623
CREATED:20250429T151907Z
LAST-MODIFIED:20250429T152138Z
UID:2044-1751068800-1751155199@flk.lu
SUMMARY:Coupe Prince Louis 2025
DESCRIPTION:
URL:https://flk.lu/event/coupe-prince-louis-2025/
LOCATION:Karaté Club Differdange\, 100 Rue J-b Scharlé\,\, Niederkorn Differdange\, 4666\, Luxembourg
ATTACH;FMTTYPE=image/jpeg:https://flk.lu/wp-content/uploads/2025/04/FLK-events-affiches-2025-1.jpg
END:VEVENT
END:VCALENDAR