BEGIN:VCALENDAR
VERSION:2.0
PRODID:-//FLK - Fédération Luxembourgeoise de Karaté - ECPv6.15.20//NONSGML v1.0//EN
CALSCALE:GREGORIAN
METHOD:PUBLISH
X-WR-CALNAME:FLK - Fédération Luxembourgeoise de Karaté
X-ORIGINAL-URL:https://flk.lu
X-WR-CALDESC:Events for FLK - Fédération Luxembourgeoise de Karaté
REFRESH-INTERVAL;VALUE=DURATION:PT1H
X-Robots-Tag:noindex
X-PUBLISHED-TTL:PT1H
BEGIN:VTIMEZONE
TZID:UTC
BEGIN:STANDARD
TZOFFSETFROM:+0000
TZOFFSETTO:+0000
TZNAME:UTC
DTSTART:20240101T000000
END:STANDARD
END:VTIMEZONE
BEGIN:VEVENT
DTSTART;VALUE=DATE:20251108
DTEND;VALUE=DATE:20251110
DTSTAMP:20260421T163851
CREATED:20251107T152053Z
LAST-MODIFIED:20251107T152120Z
UID:2183-1762560000-1762732799@flk.lu
SUMMARY:Okami Cup Luxembourg
DESCRIPTION:Date : 08 – 09 novembre 2025\nLieu : Festsall a Mouschelt\nLintgen\, 250\, rte de Fischbach\nOrganisateur : KC Lintgen
URL:https://flk.lu/event/okami-cup-luxembourg/
LOCATION:250\, rue de fischbach 7447 Lintgen\, 250 rue de Fischbach\, Lintgen\, 7447\, Luxembourg
ATTACH;FMTTYPE=image/webp:https://flk.lu/wp-content/uploads/2025/11/OKAMI-cup-2025.webp
END:VEVENT
BEGIN:VEVENT
DTSTART;TZID=UTC:20251121T183000
DTEND;TZID=UTC:20251121T200000
DTSTAMP:20260421T163851
CREATED:20251107T152851Z
LAST-MODIFIED:20251107T152851Z
UID:2188-1763749800-1763755200@flk.lu
SUMMARY:Karate Seminar - KSD
DESCRIPTION:STAGE EXCEPTIONNEL DE KARATÉ À DUDELANGE \n\n\nNe manquez pas l’opportunité de vous entraîner avec l’un des grands maîtres du karaté :\n\n\n Sensei Alfredo Russo\n\n\n 8e Dan Shotokan (WKF & Japon)\n\n\n Ancien Entraîneur National WKF\n(Belgique & Maroc)\n\n\n Chief Instructor Group Furuhata Europe\n\n\n Vendredi 21 novembre 2025\n 18h30 – 20h00\n Dudelange – Luxembourg\n\n\n Un stage ouvert à tous les passionnés\, confirmés.\n Venez améliorer votre technique\, et votre esprit martial aux côtés d’un expert international.\n\n\n Les places sont limitées
URL:https://flk.lu/event/karate-seminar-ksd/
LOCATION:Centre Sportif 2 rue René Hartmann\, 3425 Dudelange\, Centre Sportif 2 rue René Hartmann\,\, Dudelange\, 3425\, Luxembourg
ATTACH;FMTTYPE=image/png:https://flk.lu/wp-content/uploads/2025/11/unnamed-7-1.png
END:VEVENT
BEGIN:VEVENT
DTSTART;VALUE=DATE:20251127
DTEND;VALUE=DATE:20251201
DTSTAMP:20260421T163851
CREATED:20251107T153805Z
LAST-MODIFIED:20251107T153805Z
UID:2194-1764201600-1764547199@flk.lu
SUMMARY:Championnat du monde Senior Cairo (Egypte)
DESCRIPTION:
URL:https://flk.lu/event/championnat-du-monde-senior-cairo-egypte/
LOCATION:CAIRO INTERNATIONAL STADIUM\, CAIRO INTERNATIONAL STADIUM Mamdouh Salem ، Street ،Al Estad\, Nasr City\, Cairo Governorate\, Egypt
ATTACH;FMTTYPE=image/jpeg:https://flk.lu/wp-content/uploads/2025/11/WKF-Cairo-nov-2025.jpg
END:VEVENT
END:VCALENDAR