BEGIN:VCALENDAR
VERSION:2.0
PRODID:-//FLK - Fédération Luxembourgeoise de Karaté - ECPv6.15.20//NONSGML v1.0//EN
CALSCALE:GREGORIAN
METHOD:PUBLISH
X-WR-CALNAME:FLK - Fédération Luxembourgeoise de Karaté
X-ORIGINAL-URL:https://flk.lu
X-WR-CALDESC:Events for FLK - Fédération Luxembourgeoise de Karaté
REFRESH-INTERVAL;VALUE=DURATION:PT1H
X-Robots-Tag:noindex
X-PUBLISHED-TTL:PT1H
BEGIN:VTIMEZONE
TZID:UTC
BEGIN:STANDARD
TZOFFSETFROM:+0000
TZOFFSETTO:+0000
TZNAME:UTC
DTSTART:20250101T000000
END:STANDARD
END:VTIMEZONE
BEGIN:VEVENT
DTSTART;VALUE=DATE:20260424
DTEND;VALUE=DATE:20260427
DTSTAMP:20260421T090351
CREATED:20260304T121002Z
LAST-MODIFIED:20260304T121144Z
UID:2243-1776988800-1777247999@flk.lu
SUMMARY:K1 - Series A A CORUNA
DESCRIPTION:Athlètes de l’équipe nationale
URL:https://flk.lu/event/k1-series-a-a-coruna/
ATTACH;FMTTYPE=image/png:https://flk.lu/wp-content/uploads/2026/03/Coruna.png
END:VEVENT
END:VCALENDAR