BEGIN:VCALENDAR
VERSION:2.0
PRODID:-//FLK - Fédération Luxembourgeoise de Karaté - ECPv6.15.20//NONSGML v1.0//EN
CALSCALE:GREGORIAN
METHOD:PUBLISH
X-ORIGINAL-URL:https://flk.lu
X-WR-CALDESC:Events for FLK - Fédération Luxembourgeoise de Karaté
REFRESH-INTERVAL;VALUE=DURATION:PT1H
X-Robots-Tag:noindex
X-PUBLISHED-TTL:PT1H
BEGIN:VTIMEZONE
TZID:UTC
BEGIN:STANDARD
TZOFFSETFROM:+0000
TZOFFSETTO:+0000
TZNAME:UTC
DTSTART:20240101T000000
END:STANDARD
END:VTIMEZONE
BEGIN:VEVENT
DTSTART;VALUE=DATE:20250507
DTEND;VALUE=DATE:20250512
DTSTAMP:20260420T023026
CREATED:20250429T142444Z
LAST-MODIFIED:20250429T142503Z
UID:2021-1746576000-1747007999@flk.lu
SUMMARY:EKF Championnat Européen Senior
DESCRIPTION:
URL:https://flk.lu/event/championnat-europeen-senior/
LOCATION:Karen Demirchyan Sports and Concerts Complex\, Yerevan\, Yerevan\, Armenia
ATTACH;FMTTYPE=image/png:https://flk.lu/wp-content/uploads/2025/04/Championnat-Europeen-Senior-FLK-Yerevan.png
END:VEVENT
END:VCALENDAR